Workbook

Sheet RECALL
A1: Upper Mount Bethel Garbage - Outstanding Balances
A2: Report Date 2-9-26
A4: CRT Account # | B4: Service Year | C4: Name | D4: Service Address | F4: Garbage Assigned | G4: Penalty Assigned | H4: Collection Fee | I4: Attorney Fee | J4: Lien Filing Fee | K4: Lien Prep Fee | L4: Garbage Collected | M4: Penalty Collected | N4: Collection Fee Collected | O4: Attorney Fee Collected | P4: Filing Fee Collected | Q4: Lien Prep Fee Collected | R4: Last Payment Date | S4: Total Balance Outstanding | T4: Full Address
A5: 3623178 | B5: 2023 | C5: 1765 POTOMAC STREET LLC | D5: 1764 | E5: POTOMAC ST | F5: 485 | H5: 106.7 | S5: 598.95 | T5: =D5& " "&E5 -> 1764 POTOMAC ST
A6: 3762317 | B6: 2024 | C6: 1765 POTOMAC STREET LLC | D6: 1764 | E6: POTOMAC ST | F6: 512.75 | H6: 112.81 | S6: 632.81 | T6: =D6& " "&E6 -> 1764 POTOMAC ST
A7: 3784890 | B7: 2025 | C7: A&T PROPERTY MANAGEMENT LLC | D7: 4083 | E7: N DELAWARE DR | F7: 498.41 | H7: 109.65 | S7: 608.06 | T7: =D7& " "&E7 -> 4083 N DELAWARE DR
A8: 3784891 | B8: 2025 | C8: A&T PROPERTY MANAGEMENT LLC | D8: 4087 | E8: N DELAWARE DR | F8: 498.41 | H8: 109.65 | S8: 608.06 | T8: =D8& " "&E8 -> 4087 N DELAWARE DR
A9: 3784664 | B9: 2025 | C9: ACKERMAN,ROBERT C & BRANDI | D9: 2385 | E9: VALLEY VIEW DR | F9: 543.75 | H9: 119.63 | S9: 670.63 | T9: =D9& " "&E9 -> 2385 VALLEY VIEW DR
A10: 3762349 | B10: 2024 | C10: ADAMS,MICHAEL | D10: 768 | E10: TOTTS GAP RD | F10: 512.75 | H10: 112.81 | S10: 632.81 | T10: =D10& " "&E10 -> 768 TOTTS GAP RD
A11: 3784302 | B11: 2025 | C11: ADAMS,MICHAEL | D11: 768 | E11: TOTTS GAP RD | F11: 543.75 | H11: 119.63 | S11: 670.63 | T11: =D11& " "&E11 -> 768 TOTTS GAP RD
A12: 3784767 | B12: 2025 | C12: AHRENS,JOHN & GAYLE | D12: 49 | E12: SEMINOLE TERR | F12: 543.75 | H12: 119.63 | S12: 670.63 | T12: =D12& " "&E12 -> 49 SEMINOLE TERR
A13: 3762423 | B13: 2024 | C13: ALBERT,JASON & ERICA | D13: 371 | E13: MT BETHEL HWY | F13: 512.75 | H13: 112.81 | L13: 260.7 | R13: 46043 | S13: 364.86 | T13: =D13& " "&E13 -> 371 MT BETHEL HWY
A14: 3784797 | B14: 2025 | C14: ALBERT,JASON & ERICA | D14: 371 | E14: MT BETHEL HWY | F14: 407.79 | H14: 89.71 | S14: 497.5 | T14: =D14& " "&E14 -> 371 MT BETHEL HWY
A15: 3762498 | B15: 2024 | C15: ALVIN,JARED & TAWNEY | D15: 750 | E15: S DELAWARE DR | F15: 512.75 | H15: 112.81 | S15: 632.81 | T15: =D15& " "&E15 -> 750 S DELAWARE DR
A16: 3784848 | B16: 2025 | C16: ALVIN,JARED & TAWNEY | D16: 750 | E16: S DELAWARE DR | F16: 543.75 | H16: 119.63 | S16: 670.63 | T16: =D16& " "&E16 -> 750 S DELAWARE DR
A17: 3784878 | B17: 2025 | C17: AMEZQUITA ARACENA,MAYELIN R MARIN YONATHAN,HOLGUIN | D17: 1697 | E17: RIVER RD | F17: 543.75 | H17: 119.63 | S17: 670.63 | T17: =D17& " "&E17 -> 1697 RIVER RD
A18: 3762523 | B18: 2024 | C18: AMEZQUITA,ARACENA MAYELIN & MARIN HOLGUIN,YONATHAN | D18: 1697 | E18: RIVER RD | F18: 512.75 | H18: 112.81 | S18: 632.81 | T18: =D18& " "&E18 -> 1697 RIVER RD
A19: 3784776 | B19: 2025 | C19: AMMOSCATO,ROY & MARIA R | D19: 97 | E19: CHIPPAWA CIR | F19: 543.75 | H19: 119.63 | S19: 670.63 | T19: =D19& " "&E19 -> 97 CHIPPAWA CIR
A20: 3623185 | B20: 2023 | C20: AMOROSI,LOUIS M | D20: 252 | E20: ECHO LAKE DR | F20: 485 | H20: 106.7 | S20: 598.95 | T20: =D20& " "&E20 -> 252 ECHO LAKE DR
A21: 3762395 | B21: 2024 | C21: AMOROSI,LOUIS M | D21: 252 | E21: ECHO LAKE DR | F21: 512.75 | H21: 112.81 | S21: 632.81 | T21: =D21& " "&E21 -> 252 ECHO LAKE DR
A22: 3784739 | B22: 2025 | C22: AMOROSI,LOUIS M | D22: 252 | E22: ECHO LAKE DR | F22: 543.75 | H22: 119.63 | S22: 670.63 | T22: =D22& " "&E22 -> 252 ECHO LAKE DR
A23: 3784838 | B23: 2025 | C23: ANDERSEN,JACOB | D23: 1115 | E23: SUNSET DR | F23: 498.41 | H23: 109.65 | S23: 608.06 | T23: =D23& " "&E23 -> 1115 SUNSET DR
A24: 3784194 | B24: 2025 | C24: ANGUS,SCOTT,JUDY | D24: 1981 | E24: LAKE MINSI DR | F24: 45.31 | H24: 9.97 | S24: 55.28 | T24: =D24& " "&E24 -> 1981 LAKE MINSI DR
A25: 3762574 | B25: 2024 | C25: ANTOINE,DIDIER ELICIN,MARIE | D25: 33 | E25: CRYSTAL TERR | F25: 512.75 | H25: 112.81 | L25: 512.75 | N25: 7.25 | R25: 45838 | S25: 112.81 | T25: =D25& " "&E25 -> 33 CRYSTAL TERR
A26: 3623187 | B26: 2023 | C26: ANTOINE,DIDIER,MARIE-ELICIN | D26: 33 | E26: CRYSTAL TERR | F26: 485 | H26: 106.7 | S26: 598.95 | T26: =D26& " "&E26 -> 33 CRYSTAL TERR
A27: 3784658 | B27: 2025 | C27: ARCHER,JONATHAN | D27: 4192 | E27: RIVER RD | F27: 543.75 | H27: 119.63 | S27: 670.63 | T27: =D27& " "&E27 -> 4192 RIVER RD
A28: 3500525 | B28: 2017 | C28: AUGUSTINO,ANGELO | D28: 1292 | E28: RIVER ROAD | F28: 270 | G28: 71.55 | H28: 59.4 | S28: 400.95 | T28: =D28& " "&E28 -> 1292 RIVER ROAD
A29: 3623189 | B29: 2023 | C29: AYDEMIR,JANE A | D29: 49 | E29: MT BETHEL HWY | F29: 485 | H29: 106.7 | S29: 598.95 | T29: =D29& " "&E29 -> 49 MT BETHEL HWY
A30: 3762425 | B30: 2024 | C30: AYDEMIR,JANE A | D30: 49 | E30: MT BETHEL HWY | F30: 512.75 | H30: 112.81 | S30: 632.81 | T30: =D30& " "&E30 -> 49 MT BETHEL HWY
A31: 3784802 | B31: 2025 | C31: AYDEMIR,JANE A | D31: 49 | E31: MT BETHEL HWY | F31: 543.75 | H31: 119.63 | S31: 670.63 | T31: =D31& " "&E31 -> 49 MT BETHEL HWY
A32: 3784190 | B32: 2025 | C32: AYERS,THOMAS & JACQUELINE | D32: 55 | E32: RAMBLEWOOD RD | F32: 543.75 | H32: 119.63 | S32: 670.63 | T32: =D32& " "&E32 -> 55 RAMBLEWOOD RD
A33: 3762443 | B33: 2024 | C33: BABAKULOVA,SHOIRA | D33: 94 | E33: HAMPTON DR | F33: 512.75 | H33: 112.81 | S33: 632.81 | T33: =D33& " "&E33 -> 94 HAMPTON DR
A34: 3784368 | B34: 2025 | C34: BABAKULOVA,SHOIRA | D34: 94 | E34: HAMPTON DR | F34: 543.75 | H34: 119.63 | S34: 670.63 | T34: =D34& " "&E34 -> 94 HAMPTON DR
A35: 3784391 | B35: 2025 | C35: BALDANZA,ANDREW KRAMER,DENISE | D35: 1191 | E35: MILLION DOLLAR HWY | F35: 543.75 | H35: 119.63 | S35: 670.63 | T35: =D35& " "&E35 -> 1191 MILLION DOLLAR HWY
A36: 3762519 | B36: 2024 | C36: BARILA,ROSARIO & PATRICIA | D36: 9 | E36: FARMSTEAD WAY | F36: 512.75 | H36: 112.81 | L36: 152.57 | R36: 46052 | S36: 480.24 | T36: =D36& " "&E36 -> 9 FARMSTEAD WAY
A37: 3784163 | B37: 2025 | C37: BARKER JR,TERRANCE V | D37: 469 | E37: AUTUMN DR | F37: 543.75 | H37: 119.63 | S37: 670.63 | T37: =D37& " "&E37 -> 469 AUTUMN DR
A38: 3762290 | B38: 2024 | C38: BARKER JR,TERRENCE V | D38: 469 | E38: AUTUMN DR | F38: 512.75 | H38: 112.81 | L38: 88.96 | R38: 46057 | S38: 543.85 | T38: =D38& " "&E38 -> 469 AUTUMN DR
A39: 3623198 | B39: 2023 | C39: BARNES,MARIE | D39: 418 | E39: BELVIDERE CRNR RD | F39: 485 | H39: 106.7 | S39: 598.95 | T39: =D39& " "&E39 -> 418 BELVIDERE CRNR RD
A40: 3762365 | B40: 2024 | C40: BARNES,MARIE | D40: 418 | E40: BELVIDERE CRNR RD | F40: 512.75 | H40: 112.81 | S40: 632.81 | T40: =D40& " "&E40 -> 418 BELVIDERE CRNR RD
A41: 3784712 | B41: 2025 | C41: BARNES,MARIE | D41: 418 | E41: BELVIDERE CORNER RD | F41: 543.75 | H41: 119.63 | S41: 670.63 | T41: =D41& " "&E41 -> 418 BELVIDERE CORNER RD
...

Sheet Statistics
A1: Unique Names | B1: Unique Properties | C1: Oldest Delinquent Year
A2: =COUNTA(_xlfn.UNIQUE(RECALL!$C5:$C1405)) -> 556 | B2: =COUNTA(_xlfn.UNIQUE(RECALL!$T5:$T1405)) -> 534 | C2: =MIN(RECALL!$B2:$B1402) -> 1994
A4: Highest Amount Owed | B4: Lowest Amount Owed | C4: Average Amount Owed
A5: =MAX(RECALL!$F5:$F1405) -> 1610 | B5: =MIN(RECALL!$F5:$F1405) -> 4.85 | C5: =AVERAGE(RECALL!$F5:$F1405) -> 384.50358
A7: Total Billed | B7: Total Collection Fees | C7: Total Owed with Fees
A8: =SUM(RECALL!$F5:$F1405) -> 537151.5 | B8: =SUM(RECALL!$H5:$H1405) -> 118144.68 | C8: =SUM(RECALL!$S5:$S1405) -> 703815.47
